BEGIN:VCALENDAR
VERSION:2.0
PRODID:-//Crazy Crow Trading Post - ECPv6.15.20//NONSGML v1.0//EN
CALSCALE:GREGORIAN
METHOD:PUBLISH
X-ORIGINAL-URL:https://www.crazycrow.com/site
X-WR-CALDESC:Events for Crazy Crow Trading Post
REFRESH-INTERVAL;VALUE=DURATION:PT1H
X-Robots-Tag:noindex
X-PUBLISHED-TTL:PT1H
BEGIN:VTIMEZONE
TZID:UTC
BEGIN:STANDARD
TZOFFSETFROM:+0000
TZOFFSETTO:+0000
TZNAME:UTC
DTSTART:20160101T000000
END:STANDARD
END:VTIMEZONE
BEGIN:VEVENT
DTSTART;VALUE=DATE:20170805
DTEND;VALUE=DATE:20170807
DTSTAMP:20260419T175357
CREATED:20160724T185823Z
LAST-MODIFIED:20170727T014713Z
UID:6579-1501891200-1502063999@www.crazycrow.com
SUMMARY:Sackets Harbor Battlefield War of 1812 Weekend
DESCRIPTION:2017 Sackets Harbor Battlefield War of 1812 Weekend\nStep back in time at the 13th Annual Sackets Harbor Battlefield War of 1812 Weekend on August 5-6\, 2017 at the Sackets Harbor Battlefield State Historic Site. \nShortly after the War of 1812 began\, Sackets Harbor became the center for U.S. military and naval activity for the upper St. Lawrence Valley and Lake Ontario region\, according to the Sackets Harbor Battlefield Alliance. By 1813\, roughly 5\,200 troops were stationed at Sackets Harbor\, the U.S. Naval Headquarters on the Great Lakes. \n[embedyt] http://www.youtube.com/watch?v=TBXqeH2Z6RU&width=540&height=367[/embedyt] \nThe Sackets Harbor Battlefield War of 1812 Weekend activities fill Saturday 9am to 5pm\, plus an evening English Country Dance. Living history demonstrations continue Sunday\, 9am to 1pm. High points are tacticals Saturday afternoon and Sunday morning. Re-enactors from across the North Country set up camp on the historic battlefield\, talked with visitors and participated in battle demonstrations. \nVisitors experience military formations and drills\, hear artillery\, shop for period merchandise\, and watch battle tactics. \nAn environment of safety and authenticity is essential\, with participants adhering to the ‘Guidelines for Black Powder & Edged Weapons Use.’ All participants register upon arrival as NYS Parks “volunteers.” \nSutlers are welcome. Tents\, signs\, goods\, displays\, and personal appearance must be appropriate for the War of 1812 period. \nView other War of 1812 Encampments & Reenactments
URL:https://www.crazycrow.com/site/event/sackets-harbor-battlefield-war-of-1812-weekend/
LOCATION:Sackets Harbor Battlefield\, 504 West Main Street\, Sackets Harbor\, NY\, 13685\, United States
CATEGORIES:Battle Reenactments & Encampments,Historic American Forts,Living History Events,US Historic Reenactor Events,War of 1812
ATTACH;FMTTYPE=image/jpeg:https://www.crazycrow.com/site/wp-content/uploads/2016/07/Sackets-Harbor-Battlefield-War-of-1812-Weekend-02-850x567.jpg
ORGANIZER;CN="Sackets Harbor Battlefield Alliance":MAILTO:constance.barone@parks.ny.gov
END:VEVENT
BEGIN:VEVENT
DTSTART;TZID=UTC:20170805T090000
DTEND;TZID=UTC:20170806T170000
DTSTAMP:20260419T175357
CREATED:20160628T133346Z
LAST-MODIFIED:20170129T163414Z
UID:5909-1501923600-1502038800@www.crazycrow.com
SUMMARY:Fort Crevecoeur French and Indian War Reenactment
DESCRIPTION:The Annual Fort Crevecoeur French and Indian War Reenactment will be held on August 5-6\, 2017 at Fort Crevecoeur in Creve Couer\, Illinois. Gates are open to the public Saturday and Sunday 9a – 5p. A small gate fee applies. All proceeds from the gate go towards the upkeep of Fort Crevecoeur Park. \nFrench and Indian War re-enactors portraying French\, British and Iroquois soldiers will provide demonstrations of camp life and skirmishes in the fort. \nThroughout the Fort Crevecoeur French and Indian War Reenactment\, vendors will sell food\, including buffalo burgers and homemade root beer\, and period items. Demonstrators will show visitors how to light fires\, make candles and throw knives and tomahawks. \nThroughout the Fort Crevecoeur French and Indian War Reenactment weekend\, French and Indian War Reenactors will portray life in a military encampment\, from the outfits they wore to the tents they slept in. French soldiers will march about in long-sleeve wool jackets and hats\, including a long-sleeve undershirt and vest. Prior to a skirmish Sunday\, a priest will address the French soldiers. \nLocation\nFort Crevecoeur Park\n301 Lawnridge Dr\,\nCreve Coeur\, IL 61610\nPhone:(309) 694-3193 \nContact\nFort Crevecoeur Park Office\n309-694-3193\nhttp://www.ftcrevecoeur.org/\nftcrevecoeur@gmail.com \nAbout Fort Crevecoeur Park\nFort Crevecoeur Park is located near Peoria and includes a reconstructed Fort Crevecoeur (about nine miles from the original location)\, a museum and a campground. French explorer Robert de La Salle (1643-87) helped the Peoria Indians build a fort in 1860 to defend themselves against the Iroquois. LaSalle made a deal with the local tribes to protect them from the Iroquois tribal league. LaSalle fostered good relationships with the tribes—Fort Creve Coeur wasn’t around too long though—this original site quickly became abandoned as Tonti left to fortify Starved Rock. Tonti’s mission to Starved Rock was to only end in failure though. However\, the Fort Crevecoeur’s seven man garrison quit their fort\, destroyed the fortifications\, and made a trek to Canada. \nMark your calendar today so you don’t miss the next Fort Crevecoeur French and Indian War Reenactment in Creve Couer\, IL. \nView other French & Indian War Reenactments and Other Events
URL:https://www.crazycrow.com/site/event/fort-crevecoeur-french-and-indian-war-reenactment/
LOCATION:Fort Crevecoeur Park\, 301 Lawnridge Drive\, Creve Coeur\, IL\, 61610\, United States
CATEGORIES:French & Indian War Reenactment,Historic American Forts,Living History Events,US Historic Reenactor Events
ATTACH;FMTTYPE=image/jpeg:https://www.crazycrow.com/site/wp-content/uploads/2016/06/Fort-Crevecoeur-French-and-Indian-War-Reenactment-01-850x567.jpg
ORGANIZER;CN="":MAILTO:ftcrevecoeur@gmail.com
END:VEVENT
END:VCALENDAR