BEGIN:VCALENDAR
VERSION:2.0
PRODID:-//Crazy Crow Trading Post - ECPv6.15.20//NONSGML v1.0//EN
CALSCALE:GREGORIAN
METHOD:PUBLISH
X-ORIGINAL-URL:https://www.crazycrow.com/site
X-WR-CALDESC:Events for Crazy Crow Trading Post
REFRESH-INTERVAL;VALUE=DURATION:PT1H
X-Robots-Tag:noindex
X-PUBLISHED-TTL:PT1H
BEGIN:VTIMEZONE
TZID:UTC
BEGIN:STANDARD
TZOFFSETFROM:+0000
TZOFFSETTO:+0000
TZNAME:UTC
DTSTART:20170101T000000
END:STANDARD
END:VTIMEZONE
BEGIN:VEVENT
DTSTART;TZID=UTC:20180505T100000
DTEND;TZID=UTC:20180506T170000
DTSTAMP:20260420T005545
CREATED:20170122T121550Z
LAST-MODIFIED:20180505T054724Z
UID:10780-1525514400-1525626000@www.crazycrow.com
SUMMARY:Fort Atkinson Living History Weekend in May
DESCRIPTION:2018 Fort Atkinson Living History Weekend in May\n\nRate This Event\n \n                                    \n                                        \n                                        \n                                        \n                                        \n                                    \nJoin us for Fort Atkinson Living History Weekend in May on May 5-6\, 2018. Fort Atkinson hosts several living-history weekends a year that feature volunteers recreating the lives of the soldiers\, artisans\, and civilians that lived in and around the outpost. Interpretive hours are from 10am until 5pm on all living-history days. \nFort Atkinson\, the first military post west of the Missouri River\, is seven blocks east of U.S. Highway 75 near Fort Calhoun. A park entry permit is required for all vehicles entering the park and may be purchased at the park. A fee of $2 for ages 13 and up and $1 for ages 3-12 is required to enter the Harold W. Andersen Visitor Center. \n[embedyt] http://www.youtube.com/watch?v=afzZBn-N6Kk&width=650&height=400&[/embedyt] \nFort Atkinson Living History Weekend in May\nIt operated the first school\, farm\, sawmill\, hospital and library in what decades later would be Nebraska. Years earlier\, the Lewis and Clark expedition’s historic first meeting with American Indians was held on its bluff. \nLife at an 1820s military post is depicted at this Fort Atkinson Living History Weekend in September and other  Living History Weekends at Fort Atkinson State Historical Park that take place from May through September each year. \nFrom 10 a.m. to 5 p.m.\, volunteers will demonstrate period trades\, such as blacksmithing\, carpentry\, tinsmithing and coopering\, and crafts such as quilting\, spinning and weaving. Members of the American Mountain Men group will have an encampment on the grounds\, portraying the fur trappers who helped settle the region. There will be a presentation at 1 p.m. on both days by Mark W. Kelly\, author of the book ““Lost Voices on the Missouri\, John Dougherty and the Indian Frontier.” \nMark your calendar today so you don’t miss the next Fort Atkinson Living History Weekend in May. \nTags: Fort Atkinson Living History Weekend in May\, Fort Atkinson \nView Other Nebraska Rendezvous\, Encampments & Related Fur Trade Events\nView Fort Atkinson Living History Events\nView other Living History Evens
URL:https://www.crazycrow.com/site/event/fort-atkinson-living-history-weekend-in-may/
LOCATION:Fort Atkinson State Historical Park\, 201 S 7th St\, Fort Calhoun\, NE\, 68023\, United States
CATEGORIES:0-Regular Recurranace,Historic American Forts,Living History Events,Mountain Man Rendezvous,Nebraska Rendezvous,Same week in month
ATTACH;FMTTYPE=image/jpeg:https://www.crazycrow.com/site/wp-content/uploads/2017/01/Fort-Atkinson-State-Historical-Park-Ft-Calhoun-Nebraska14-850x567.jpg
END:VEVENT
BEGIN:VEVENT
DTSTART;VALUE=DATE:20180519
DTEND;VALUE=DATE:20180521
DTSTAMP:20260420T005545
CREATED:20170221T120220Z
LAST-MODIFIED:20180110T174234Z
UID:12070-1526688000-1526860799@www.crazycrow.com
SUMMARY:Fort Taylor Living History Weekend
DESCRIPTION:2018 Fort Taylor Living History Weekend\n\nRate This Event\n \n                                    \n                                        \n                                        \n                                        \n                                        \n                                    \n\nCelebrate Florida’s rich history at Fort Taylor Living History Weekend on the third Saturday and Sunday of each month at Historic Fort Taylor\, America’s Southernmost Civil War Fortress in Key West\, Florida. Join our re-enactors as they set up tents\, clean their weapons and fire up the blacksmith shop. Climb the circular stairways and experience the harbor view just as the soldiers did in 1861. Walk down our cannon row and touch the actual cannons used to protect this Union stronghold. Tours will be available and public interaction is strongly recommended. Re-enactor participation varies by weekend and weather conditions. \nApril to September\nFrom April to September\, on the third weekend (Saturday and Sunday) of each of those months\, Fort Taylor Living History Weekend offers you the opportunity to experience life in the fort as it was during the Civil War. \nLocation\nFort Zachary Taylor Historic State Park\n601 Howard England Way\nKey West\, FL 33040 \nMore Information: Kevin Bowes\, kevin.bowes@dep.state.fl.us (305) 292-6850 \nThe park is open from 8:00 a.m. until sundown\, 365 days a year. The fort closes at 5:00 p.m. \nAdmission Fees:\n$6.00* per vehicle. Limit 2-8 people per vehicle.\n$2.00* Pedestrians\, bicyclists\, extra passengers\, passengers in vehicle with holder of Annual Individual Entrance Pass.\n$4.00* Single-occupant vehicle or motorcycle.\n* Plus $.50 per person Monroe County Surcharge. \nHistory of Fort Zachary Taylor Historic State Park\nSpanish explorers first surveyed the island of Key West in 1513. After the Florida territory was transferred to the U.S.\, the Navy established a small depot here in 1822 to rid the area of pirates. Fishing\, salvaging wrecked ships and cigar manufacturing became the driving economic forces behind the island’s growth making Key West the richest city in Florida in the 1890s. The U.S. Army began construction of Fort Taylor\, named for President Zachary Taylor\, in 1845. With secession and the beginning of war in 1861\, Fort Taylor remained under federal control — one of only three fortresses in Florida to do so — and served as the headquarters for the Federal Navy’s East Gulf Coast Blockading Squadron staying on ‘active duty’ status through 1947. Today\, the fort is a National Historic Landmark containing the largest cache of Civil War-era seacoast cannons in the U.S. \nCannon and Arches\nUnion troops took control of Fort Zachary Taylor early in the Civil War and maintained it through the duration of the war. They made use of the fort’s impressive artillery\, including 10-inch Rodman and Columbiad cannons to detain blockade-running ships seeking to supply the Confederacy. In 1968\, a large supply of Civil War-era guns and ammunition were discovered in the Fort’s buried arsenal. In fact\, Fort Zachary Taylor held the largest collection of Civil War-era cannons in the United States. \nFort Moat\nSoon after the park opened to the public\, a contractor began the process of digging a moat around the fortress. There were two reasons for the project. One was to prevent easy entry into the structure. The other was to give the illusion of the fort in its early days\, surrounded by water. The end result was an attractive division between the fort and the beach and sea beyond. \nMark your calendar today so you don’t miss the next Fort Taylor Living History Weekend on the third Saturday and Sunday of each month from March to September at Historic Fort Taylor in Key West\, FL. \nView other Civil War Reenactments & Other Events
URL:https://www.crazycrow.com/site/event/fort-taylor-living-history-weekend-2017-05-20/
LOCATION:Fort Zachary Taylor Historic State Park\, 601 Howard England Way\, Key West\, FL\, 33040\, United States
CATEGORIES:0-Regular Recurranace,American Civil War Reenactment,Historic American Forts,Living History Events,Same week in month
ATTACH;FMTTYPE=image/jpeg:https://www.crazycrow.com/site/wp-content/uploads/2017/02/Fort-Taylor-Living-History-Weekend-03-850x567.jpg
END:VEVENT
BEGIN:VEVENT
DTSTART;TZID=UTC:20180519T090000
DTEND;TZID=UTC:20180520T160000
DTSTAMP:20260420T005545
CREATED:20170125T014546Z
LAST-MODIFIED:20190416T144912Z
UID:10859-1526720400-1526832000@www.crazycrow.com
SUMMARY:Old Fort Niagara Civil War Artillery School
DESCRIPTION:2018 Old Fort Niagara Civil War Artillery School\n\nRate This Event\n \n                                    \n                                        \n                                        \n                                        \n                                        \n                                    \nCivil War cannons roar at Old Fort Niagara Civil War Artillery School on May 19-20\, 2018 at Old Fort Niagara in Youngstown\, New York. Civil War soldiers garrison the Fort and fire cannons during the afternoon at the Old Fort Niagara Civil War Artillery School. The event is sponsored by Reynolds Battery 1st New York Light Artillery. \nAlthough Fort Niagara was far from the action during the war\, it nonetheless saw activity during the conflict. Paroled Union soldiers captured near Mesilla\, N.M.\, arrived at the fort in December 1861 and remained there until October 1862. Later\, the fort’s walls were strengthened against a feared British attack from Canada in support of the Confederacy. The fort’s massive brick walls and sturdy underground casemates date from this period. \nThis Old Fort Niagara Civil War Artillery School training weekend\, whether you wear blue or gray the school is dedicated to one simple goal: the training of reenactors in the safe portrayal of their branch. To a lesser degree\, it is the hope that\, in brotherhood\, we can continue to strive to make this hobby enjoyable and accurate to ourselves\, our comrades\, and the public. Except for general formations for colors\, award presentations\, and guest speakers\, the Fort will be garrisoned\, scheduled\, administered\, and certified by staff from their own school. In other words\, the infantry will run the skirmish school\, the artillery will run the artillery school\, and so on. \nLocation\nOld Fort Niagara\n102 Morrow Plaza\n(in Fort Niagara State Park)\nYoungstown\, NY 14174\n(716) 745-7611 \nFor More Information: Call (716) 745-7611 \nAbout Reynolds’ Battery 1st New York Light Artillery\nEach year the Battery attends events throughout New York State and national events in Pennsylvania\, Virginia\, Ohio and Maryland. Reynolds’ Battery L\, 1st New York Light Artillery is chartered by the New York State Board of Education with the stated purpose and objectives to inform\, instruct and educate the public\nas to the life and trials of a Civil War Artillery soldier during the 1860s. In recognition of the training provided by the Battery to its members and the Reenactment community the 2012 George MacDonald Award for Outstanding Service was presented to Richard Henderson and John Beatty with Reynolds Battery. \nHistory of Reynolds’ Battery 1861 to 1865\nAfter the disaster at Bull Run\, President Lincoln put out a call for 300\,000 more men for service. The Rochester Union Grays\, a New York Militia regiment at the time\, answered the call. Recruiting was done by John A. Reynolds\, Edwin Loder and Charles Anderson\, and men from Monroe\, Ontario and Wayne counties flocked to the recruiting offices to join the artillery regiment. \nOn October 8\, 1861\, 81 men and officers swore an oath to the Union and were mustered into federal service while stationed in Elmira\, NY. Under the direction of the State of New York\, twelve artillery companies were formed with Reynolds’ Battery given the designation of Company L. They transferred to Albany on November 14\, the training ground for all NY State Artillery\, having reached full strength of 115 men. On November 23\, 1861 Company L reported for duty at Camp Barry\, Washington\, D.C. under the command of Captain John A. Reynolds. John Reynolds used his own personal funds as a guarantee to secured the first six Model 1861 3” Ordnance Rifles from the Phoenix Iron Works. These guns would not arrive until May 1862\, but would bring a great deal of fame for Reynolds’ Battery as being the only battery in US Service to have the first six consecutive guns in any series of any cannon in their battery. On February 23\, 1862\, Reynolds’ Battery was assigned to Baltimore\, Maryland to guard the Capital. After six months of waiting\, they were called into action at Harper’s Ferry. \nAbout Old Fort Niagara\nOld Fort Niagara has dominated the entrance to the Niagara River since 1726. In American hands since 1796\, Fort Niagara was recaptured by the British in 1813\, and then ceded to the US a second time in 1815 at the end of the War of 1812. Today\, visitors can discover an amazing collection of military architecture\, including the oldest building in the Great Lakes region: the “French Castle.” The fort is a New York State and National Historic Landmark and hosts several reenactments each year.[su_accordion][su_spoiler title=”Read More”]\nOld Fort Niagara offers a chance to step back in time to an era when great empires struggled for control of North America. Visit original 18th century buildings\, enjoy incredible views and take part in exciting living history programs. The Fort’s Visitor Center offers you introductory exhibits filled with original artifacts and an award-winning 16-minute orientation film. Don’t miss the Fort’s original War of 1812 Flag. \nInside the Fort\, you’ll tour original buildings where Native American\, French\, British and American soldiers lived and worked from the 18th to the 20th centuries. During the summer months you’ll witness musket and artillery firing demonstrations\, go on a guided tour\, see artisans at work and learn about life on the Niagara Frontier during the 18th and early 19th centuries. \nIf you visit during one of our special events\, you’ll meet reenactors who faithfully recreate the lives of past Fort garrisons and depict the struggles that led to the birth of the United States and Canada. If you visit during the off season\, you’ll enjoy self-guided or audio tours and hourly musket demonstrations in addition to the many exhibits and period rooms throughout the Fort. Why not make plans to visit the Fort today? You’ll experience a unique blend of authenticity and drama that brings history alive.[/su_spoiler][/su_accordion] \nMark your calendar today so you don’t miss the next Old Fort Niagara Civil War Artillery School in Youngstown\, New York in May. \nTags: Old Fort Niagara Civil War Artillery School\, Civil War Artillery School\, Civil War Living History \nView other Civil War Reenactments & Other Events
URL:https://www.crazycrow.com/site/event/old-fort-niagara-civil-war-artillery-school/
LOCATION:Old Fort Niagara – Standing Guard Since 1726\, 102 Morrow Plaza\, Youngstown\, NY\, 14174\, United States
CATEGORIES:American Civil War Reenactment,Historic American Forts,Living History Events
ATTACH;FMTTYPE=image/jpeg:https://www.crazycrow.com/site/wp-content/uploads/2017/01/Old-Fort-Niagara-Civil-War-Artillery-School-850x567.jpg
ORGANIZER;CN="Old Fort Niagara Association":MAILTO:eschrader@oldfortniagara.org
END:VEVENT
END:VCALENDAR