BEGIN:VCALENDAR
VERSION:2.0
PRODID:-//Crazy Crow Trading Post - ECPv6.15.20//NONSGML v1.0//EN
CALSCALE:GREGORIAN
METHOD:PUBLISH
X-ORIGINAL-URL:https://www.crazycrow.com/site
X-WR-CALDESC:Events for Crazy Crow Trading Post
REFRESH-INTERVAL;VALUE=DURATION:PT1H
X-Robots-Tag:noindex
X-PUBLISHED-TTL:PT1H
BEGIN:VTIMEZONE
TZID:UTC
BEGIN:STANDARD
TZOFFSETFROM:+0000
TZOFFSETTO:+0000
TZNAME:UTC
DTSTART:20180101T000000
END:STANDARD
END:VTIMEZONE
BEGIN:VEVENT
DTSTART;VALUE=DATE:20190125
DTEND;VALUE=DATE:20190128
DTSTAMP:20260420T142509
CREATED:20170319T111224Z
LAST-MODIFIED:20181231T150415Z
UID:13100-1548374400-1548633599@www.crazycrow.com
SUMMARY:John Jaeger Memorial School of the Ranger
DESCRIPTION:2019 John Jaeger Memorial School of the Ranger\n\nRate This Event\n \n                                    \n                                        \n                                        \n                                        \n                                        \n                                    \nLearn Ranger skills at the Annual John Jaeger Memorial School of the Ranger on January 25-27\, 2019 at the Fort Frederick State Park in Big Pool\, Maryland. Each year during the last weekend of January\, Jaeger’s Battalion\, in concert with the Rangers of the Ohio Company\, Rutherford’s Rangers\, and The Friends of Fort Frederick conduct a John Jaeger Memorial School of the Ranger. All proceeds benefit the Friends of Fort Frederick. We will maintain 18th c. persona throughout the John Jaeger Memorial School of the Ranger weekend. If you are new to the hobby and do not have all your 18th c. gear\, you are welcome to attend and learn what you need for this hobby. \n\nJohn Jaeger Memorial School of the Ranger\nThe purpose of the John Jaeger Memorial School of the Ranger is to promote the historical 18th century Ranger impression by providing accurate and updated information on Rogers’ Rangers and the cultures of the time. Subjects taught range from field skills that rangers required to cultures they encountered\, such as the Eastern Woodland Indian cultures. \nThe weekend John Jaeger Memorial School of the Ranger will involve a mix of lecture\, hands-on\, and simulated patrolling exercises designed to familiarize the participants with the skills necessary to understand all facets of the historic military specialization\, as well as lend insight to future research and portrayals. Lodging in the fort\, firewood and meals will be included. \nRegistration\n$60.00 and is be limited to the first 30 paid applicants.\nCost includes classes plus Friday dinner through Sunday breakfast meals.\nYou must pre-register before January 8!\nMake check payable to “Friends of Fort Frederick State Park” (Non-Refundable)\nMail check to: SCR\, c/o Louis Tramelli\, 8563 Tipton Hwy\, Tipton\, MI 49287\nInclude your address\, phone number and e-mail address. \nFor More Information: Lou Tramelli at 2017SOR@oaksedge.net. \nBarracks space for the John Jaeger Memorial School of the Ranger is limited to the first 30 registrants\, so register early to ensure your place! All others must sleep in their own tent. You may use a propane or wood burning heater in your tent. When you register\, please let us know if you intend to pitch a tent\, and include any requirements for straw to stuff your tick. \nStandards for historic weapons use applies \nLocation\nFort Frederick State Park\n11100 Fort Frederick Road\nBig Pool\, MD 21711\n301-842-2155 \nAbout Rogers’ Rangers\nRogers’ Rangers was initially a provincial company from the colony of New Hampshire\, attached to the British Army during the Seven Years’ War (called the French and Indian War in the US). The unit was quickly adopted into the British army as an independent ranger company. It was trained by Major Robert Rogers as a rapidly deployed light infantry force tasked mainly with reconnaissance as well as conducting special operations against distant targets. Their tactics were built on earlier colonial precedents and were codified for the first time by Rogers. The tactics proved remarkably effective\, so much so that the initial company was expanded into a ranging corps of more than a dozen companies (containing as many as 1\,200–1\,400 men at its peak). The ranger corps became the chief scouting arm of British Crown forces by the late 1750s. The British valued them highly for gathering intelligence about the enemy. \nMark your calendar today so you don’t miss the next John Jaeger Memorial School of the Ranger at Fort Frederick State Park in Big Pool\, Maryland on the last weekend of January. \nTags: John Jaeger Memorial School of the Ranger\, John Jaeger School of the Ranger\, 18th century Ranger Training\, John Jaeger Memorial School of the Ranger weekend\, Jaeger’s Battalion of Rogers Rangers \nView other French & Indian War Reenactments and Other Events
URL:https://www.crazycrow.com/site/event/john-jaeger-memorial-school-of-the-ranger/
LOCATION:Fort Frederick State Park\, 11100 Fort Frederick Road\, Big Pool\, MD\, 21711\, United States
CATEGORIES:0-Regular Recurranace,French & Indian War Reenactment,Historic American Forts,Same week in month
ATTACH;FMTTYPE=image/jpeg:https://www.crazycrow.com/site/wp-content/uploads/2017/03/John-Jaeger-Memorial-School-of-the-Ranger-02-850x567.jpg
ORGANIZER;CN="Jaegers Battalion of Rogers Rangers":MAILTO:2017SOR@oaksedge.net
END:VEVENT
BEGIN:VEVENT
DTSTART;TZID=UTC:20190126T100000
DTEND;TZID=UTC:20190126T170000
DTSTAMP:20260420T142509
CREATED:20180117T145925Z
LAST-MODIFIED:20190102T024735Z
UID:21527-1548496800-1548522000@www.crazycrow.com
SUMMARY:Fort Point Living History Day
DESCRIPTION:2019 Fort Point Living History Day\n\nRate This Event\n \n                                    \n                                        \n                                        \n                                        \n                                        \n                                    \nThe Fort comes alive at Fort Point Living History Day on January 26\, 2019 at Fort Point in San Francisco\, California as re-enactors show what life was like there during the 1860s. Tours of the fort\, infantry and artillery demonstrations\, exhibits\, music of the period\, military parades\, and a speech by the Mayor of San Francisco (in 1861) are all part of the day’s activities. The raising of the garrison flag ceremony takes place soon after the fort opens. Admission is free. Talks and demonstrations will be held throughout the day; reenactors are happy to answer questions about history and various aspects of life during the Civil War. \n\nFort Point Living History Day\nThis Saturday\, the walls of Fort Point will again echo with the sounds of fifes and drums and tramp of boots as this San Francisco landmark celebrates Fort Point Living History Day. Come watch and interact with dozens of reenactors from the American Civil War Association portraying Union soldiers and civilians from the time of the War Between the States at the only Civil War-era brick fort west of the Mississippi. \nThis is a great family-friendly event that is both fun and educational. It’s exciting to march into the fort behind the fife-and-drum band\, and entering the courtyard to see only reenactors in period dress. If you’re at all interested in the Civil War or California’s history\, it’s an event you have to attend. \nSchedule of Activities (subject to change): \n\nAdmission Free\nHours: Saturday 10:00 a.m. to 5:00 p.m.\nFlag raising ceremony at 10:00 a.m.\nInfantry drills occur every hour on the hour\nArtillery discussions occur every hour on the half hour\nConcurrent demonstrations throughout the day – 1800’s medicine\, musician\, and civilian\nFlag lowering ceremony at 4:30 p.m.\n\nLocation\nFort Point\n999 Marine Drive at Long Avenue)\nSan Francisco\, CA 94129 \nFort Union\, is located at the south anchorage of the Golden Gate Bridge at the end of Marine Drive on the Presidio of San Francisco. \nGetting to Fort Point: Cross the Golden Gate Bridge and pass through the toll plaza in the far right lane. Take the exit immediately after the toll plaza and head up Merchant Road. Turn left at the stop sign onto Lincoln Avenue and follow it down the hill to Marine Drive. \nParking: Available along the road and in a small lot at the fort. You can also park near the Warming Hut at Crissy Field and walk over to Fort Point. It can be really cold in this old brick fort\, even if it’s sunny out\, so dress in layered clothing. Restroom facilities and drinking water can be found outside the fort. \nAbout Fort Point\nFrom its vantage point overlooking the spectacular Golden Gate\, Fort Point defended the San Francisco Bay following California’s Gold Rush through World War II. Its beautifully arched casemates display the art of 3rd system brick masonry and interacts gracefully with the Golden Gate Bridge. Fort Point National Historic Site is open Friday through Sunday from 10 am to 5 pm. The fort is located in San Francisco at 999 Marine Drive (at Long Avenue) right under the south end of the Golden Gate Bridge. Admission is free. \nFor More Information: Call (415) 556-1696. \n\nMark your calendar today so you don’t miss the next Fort Point Civil War Days in January at Fort Point in San Francisco\, California. \nTags: Fort Point Living History Day\, Fort Point Historic Site Civil War Days\, Civil War Living History \nView other Civil War Reenactments\, Encampments & Other Events
URL:https://www.crazycrow.com/site/event/fort-point-living-history-day/
LOCATION:Fort Point Historic Site\, 999 Marine Drive\, San Francisco\, CA\, 94129\, United States
CATEGORIES:0-Regular Recurranace,American Civil War Reenactment,Historic American Forts,Same week in month
ATTACH;FMTTYPE=image/jpeg:https://www.crazycrow.com/site/wp-content/uploads/2018/01/Fort-Point-Civil-War-Days-03-850x567.jpg
END:VEVENT
END:VCALENDAR