BEGIN:VCALENDAR
VERSION:2.0
PRODID:-//Crazy Crow Trading Post - ECPv6.15.20//NONSGML v1.0//EN
CALSCALE:GREGORIAN
METHOD:PUBLISH
X-WR-CALNAME:Crazy Crow Trading Post
X-ORIGINAL-URL:https://www.crazycrow.com/site
X-WR-CALDESC:Events for Crazy Crow Trading Post
REFRESH-INTERVAL;VALUE=DURATION:PT1H
X-Robots-Tag:noindex
X-PUBLISHED-TTL:PT1H
BEGIN:VTIMEZONE
TZID:UTC
BEGIN:STANDARD
TZOFFSETFROM:+0000
TZOFFSETTO:+0000
TZNAME:UTC
DTSTART:20180101T000000
END:STANDARD
END:VTIMEZONE
BEGIN:VEVENT
DTSTART;TZID=UTC:20190704T093000
DTEND;TZID=UTC:20190704T170000
DTSTAMP:20260421T003209
CREATED:20160925T170959Z
LAST-MODIFIED:20190627T010809Z
UID:8501-1562232600-1562259600@www.crazycrow.com
SUMMARY:Fort Ticonderoga Independence Day Weekend
DESCRIPTION:2019 Fort Ticonderoga Independence Day Weekend\n\nRate This Event\n \n                                    \n                                        \n                                        \n                                        \n                                        \n                                    \nJoin us at the Fort Ticonderoga Independence Day Weekend from July 4\, 2019 for a celebration this Independence weekend to celebrate America’s greatest triumph in 1776. Walk in the marching steps of newly formed Continental soldiers at Fort Ticonderoga in 1776 as historic interpreters demonstrate weapons of independence and explain the daily military duties of soldiers garrisoning the Fort. Explore family programs at the Fort Ticonderoga Independence Day Weekend that highlight the fight for independence and listen to patriotic performances by Fort Ticonderoga’s Fife and Drum Corps. \n\nCome celebrate freedom by exploring one of the greatest triumphs of 1776 as you discover the stories of the men who helped transform America by overcoming tremendous odds to build the American Northern Army in the fight for liberty. Be in the moment as America began to take shape at Fort Ticonderoga! \nAdmission to this special living history Fort Ticonderoga Independence Day Weekend is included in a general admission ticket. \nMeet the soldiers of the Northern Department of the Continental Army and their hive of military preparations at Ticonderoga in 1776 throughout the weekend. See artificers in action in the shoe maker’s and tailor’s shops busily working to resupply soldiers with clothing\, shoes\, and equipment. Discover how these soldiers prepare their cannons\, ammunition\, and themselves to meet the British army. See rations cooked\, logs hewn\, and the Fort’s 1776 restoration in action. \n \nTentative Daily Schedule\n9:30 AM Site Opens to Visitors\n10:00 AM Raising the Colors\n10:15 AM Key to the Continent Tour: Setting the Scene for 1776 – Trace the footsteps of American soldiers who converged on the historic French Fort at Ticonderoga in 1776 to make their stand against a British invasion. Learn how American soldiers put their ingenuity\, endurance\, and mettle to the test to defend their new nation. Explore on-going preservation efforts that keep their memory alive.\n11:00 AM Musket Demonstration\n11:30 AM King’s Garden March – Follow the stirring march of the Fife and Drum Corps down to the King’s Garden. Learn more about the martial music that communicated orders and regulated soldiers fighting in the American Revolution.\n11:45 AM Breaking Ground: A Tour of the Historic Gardens\n12:30 PM Fife and Drum Concert\n1:15 PM Key to the Continent Tour\n2:00 PM Cannon Demonstration – Learn how Americans armed the fortifications\n2:30 PM King’s Garden March\n2:45 PM Breaking Ground: A Tour of the Historic Gardens\n3:00 PM Key to the Continent Tour\n4:00 PM Mount Defiance: Witness to History Tour – Oh the stories this graceful hill overlooking Fort Ticonderoga could tell! Ascend to summit of Mount Defiance to get the birds-eye view of this epic military landscape and learn how this height shaped the Fort’s history.\n4:30 PM Striking the Colors\n5:00 PM Site Closes to Visitors \n \nAbout Independence Day at Fort Ticonderoga in 1776\nSick\, weary\, and tired\, the remnants of the American Northern Army streamed back from Canada to Ticonderoga. General Horatio Gates\, their newly-appointed commander\, quickly sprung into action reorganizing\, resupplying\, and restoring the discipline of America’s northern defense. Gates put soldiers from New England\, New York\, New Jersey\, and Pennsylvania to work building earthworks all around the old Fort of Ticonderoga and constructing a navy to defend Lake Champlain. \n1776 was a year of rebuilding the Northern Army as part of building a new nation. While the Continental Congress discussed the finer points of declaring independence in Philadelphia\, the shattered remnants of the Continental Army which had come so close to capturing Quebec trickled back down to Fort Ticonderoga. Frost bitten\, starving\, and decimated by smallpox these soldiers began building up bulwarks and America’s first navy to defend their new nation. A new Continental Army emerged reinforced by soldiers from Pennsylvania\, Connecticut\, Massachusetts\, New Jersey\, New Hampshire and New York\, to guard Fort Ticonderoga. \nWhile the declaration itself was signed July 4th\, news of the document and the patriotic sentiment it carried would not reach the Northern Army at Fort Ticonderoga until July 28th. The new fortifications of Rattlesnake Hill were christened Mount Defiance to mark the occasion of the first reading of the Declaration to these soldiers. \nMark your calendar today for the Fort Ticonderoga Independence Day Weekend so you don’t miss this exciting French & Indian War event! \nTags: Fort Ticonderoga Independence Day Weekend\, Revolutionary War Reenactment \nFort Ticonderoga Special Events\, History & Living History Daily Demonstrations
URL:https://www.crazycrow.com/site/event/fort-ticonderoga-independence-day-weekend/
LOCATION:Fort Ticonderoga\, 100 Fort Ti Road\, Ticonderoga\, NY\, 12883\, United States
CATEGORIES:0-Regular Recurranace,4th of July Weekend Rendezvous & Historic Reenactments,American Revolutionary War Reenactment,Fourth of July Events,Historic American Forts,Living History Events,US Historic Reenactor Events
ATTACH;FMTTYPE=image/jpeg:https://www.crazycrow.com/site/wp-content/uploads/2016/09/Fort-Ticonderoga-Independence-day-weekend-01-850x567.jpg
ORGANIZER;CN="Fort Ticonderoga- Living History & Reenactments":MAILTO:info@fort-ticonderoga.org
END:VEVENT
BEGIN:VEVENT
DTSTART;TZID=UTC:20190706T100000
DTEND;TZID=UTC:20190707T210000
DTSTAMP:20260421T003209
CREATED:20160610T122357Z
LAST-MODIFIED:20190627T010024Z
UID:5222-1562407200-1562533200@www.crazycrow.com
SUMMARY:Fort Atkinson Living History Weekend in July
DESCRIPTION:2019 Fort Atkinson Living History Weekend in July\n\nRate This Event\n \n                                    \n                                        \n                                        \n                                        \n                                        \n                                    \nJoin us for Fort Atkinson Living History Weekend in July on July 6-7\, 2019 at the Fort Atkinson State Historic Site in Fort Calhoun\, Nebraska. Fort Atkinson hosts several living-history weekends a year that feature volunteers recreating the lives of the soldiers\, artisans\, and civilians that lived in and around the outpost. Interpretive hours are from 10am until 5pm on all living-history days. \nFort Atkinson\, the first military post west of the Missouri River\, is seven blocks east of U.S. Highway 75 near Fort Calhoun. A park entry permit is required for all vehicles entering the park and may be purchased at the park. A fee of $2 for ages 13 and up and $1 for ages 3-12 is required to enter the Harold W. Andersen Visitor Center. \n[embedyt] http://www.youtube.com/watch?v=afzZBn-N6Kk&width=650&height=400&[/embedyt] \nFort Atkinson Living History Weekend in July\nIt operated the first school\, farm\, sawmill\, hospital and library in what decades later would be Nebraska. Years earlier\, the Lewis and Clark expedition’s historic first meeting with American Indians was held on its bluff. \nLife at an 1820s military post is depicted at this Fort Atkinson Living History Weekend in July and other  Living History Weekends at Fort Atkinson State Historical Park that take place from May through September each year. \nFrom 10 a.m. to 5 p.m.\, volunteers will demonstrate period trades\, such as blacksmithing\, carpentry\, tinsmithing and coopering\, and crafts such as quilting\, spinning and weaving. Members of the American Mountain Men group will have an encampment on the grounds\, portraying the fur trappers who helped settle the region. There will be a presentation at 1 p.m. on both days by Mark W. Kelly\, author of the book ““Lost Voices on the Missouri\, John Dougherty and the Indian Frontier.” \nLocation\nFort Atkinson State Historical Park\n201 S 7th Street\nFort Calhoun\, NE 68023 \nMark your calendar today so you don’t miss the next Fort Atkinson Living History Weekend in July at the Fort Atkinon State Historic Site in Fort Calhoun\, Nebraska. \nTags: Fort Atkinson Living History Weekend in July\, Fort Atkinson \nView Other Nebraska Rendezvous\, Encampments & Related Fur Trade Events\nView Fort Atkinson Living History Events\nView other Living History Evens
URL:https://www.crazycrow.com/site/event/fort-atkinson-living-history-weekend-in-july/
LOCATION:Fort Atkinson State Historical Park\, 201 S 7th St\, Fort Calhoun\, NE\, 68023\, United States
CATEGORIES:0-Regular Recurranace,4th of July Weekend Rendezvous & Historic Reenactments,Fourth of July Events,Historic American Forts,Living History Events,Mountain Man Rendezvous,Nebraska Rendezvous,Same week in month
ATTACH;FMTTYPE=image/jpeg:https://www.crazycrow.com/site/wp-content/uploads/2016/06/Fort-Atkinson-State-Historical-Park-Ft-Calhoun-Nebraska01-850x567.jpg
END:VEVENT
BEGIN:VEVENT
DTSTART;VALUE=DATE:20190721
DTEND;VALUE=DATE:20190727
DTSTAMP:20260421T003209
CREATED:20180204T005630Z
LAST-MODIFIED:20190125T081603Z
UID:22156-1563667200-1564185599@www.crazycrow.com
SUMMARY:Fort Loudoun Junior Ranger Camp
DESCRIPTION:2019 Fort Loudoun Junior Ranger Camp\n\nRate This Event\n \n                                    \n                                        \n                                        \n                                        \n                                        \n                                    \nLooking for young recruits for our annual Fort Loudoun Junior Ranger Camp on July 21-26\, 2019 at the Fort Loudoun State Park in Vonore\, Tennessee. During this week long camp children learn about what life was like during the French and Indian War by practicing marching and musketry\, defending the area from French attacks\, learning surgical procedures in the infirmary\, trading deer skins for goods\, various trades\, and much\, much more. \nFort Loudoun Junior Ranger Camp runs Monday-Friday\, 8:30 A.M. to 12:30 P.M. It is open to children ages 8-12. Space is limited to 30. \nAdmission Free: Pre-registration is required! \nAbout Fort LoudounFort Loudoun is one of the earliest British fortifications on the western frontier\, built in 1756. The fort was reconstructed during the Great Depression and was designated a National Historic Landmark in 1965. Fort Louton represents a fascinating period in US history. It has quite a story to tell\, and as a historic site offers many activities and events with which to tell it. About Fort Loudoun & Fort Loudoun Events \nLocationFort Loudoun State Historic Park338 Fort Loudoun RoadVonore\, TN 37885Phone: (423) 884-6217 \nFor More Information:Park Ranger Lauren Baghetti; Phone: 423-884-6217; Email: lauren.baghetti@tn.gov \n \nDon’t let your kids miss the next Fort Loudoun Junior Ranger Camp in July at the Fort Loudoun State Park in Vonore\, Tennessee. \nTags: Fort Loudoun Junior Ranger Camp\, French & Indian War Reenactment\, Tennessee Living History \nView other Revolutionary War Reenactments & Other Events
URL:https://www.crazycrow.com/site/event/fort-loudoun-junior-ranger-camp/
LOCATION:Fort Loudoun State Park\, 338 Fort Loudoun Road\, Vonore\, TN\, 37885\, United States
CATEGORIES:0-Regular Recurranace,French & Indian War Reenactment,Historic American Forts,Living History Events,Same week in month
ATTACH;FMTTYPE=image/jpeg:https://www.crazycrow.com/site/wp-content/uploads/2018/02/Fort-Loudoun-Junior-Ranger-Camp-01-850x567.jpg
ORGANIZER;CN="Fort Loudoun Association":MAILTO:fortloudoun@tds.net
END:VEVENT
BEGIN:VEVENT
DTSTART;VALUE=DATE:20190725
DTEND;VALUE=DATE:20190729
DTSTAMP:20260421T003209
CREATED:20180422T121259Z
LAST-MODIFIED:20190306T165713Z
UID:23846-1564012800-1564358399@www.crazycrow.com
SUMMARY:Great Forts Folle Avoine Fur Trade Rendezvous
DESCRIPTION:2019 Forts Folle Avoine Fur Trade Rendezvous\n\nRate This Event\n \n                                    \n                                        \n                                        \n                                        \n                                        \n                                    \nJoin us here at The Great Forts Folle Avoine Fur Trade Rendezvous on July 25-28\, 2019 at the Forts Folle Avoine Historic Park in Danbury\, Wisconsin as dozens of fur trade camps fill Sayer’s Field and Trader’s Row. Represented is a variety of unique characters\, all gathering together after a rigorous winter of trapping. As was true two hundred years ago\, goods are “traded”\, stories told\, and fun times enjoyed by rendezvous campers\, traders\, and visitors. \n\nForts Folle Avoine Fur Trade Rendezvous\nWhen the fur traders packed their canoes with precious furs and began the arduous journey north after the long cold winter at Forts Folle Avoine\, their destination was Grand Portage. There\, for a few weeks before preparing for the return trip\, they could relax as they took part in the much anticipated Rendezvous celebration. \nThe Great Folle Avoine Fur Trade Rendezvous includes demonstrations of period skills including black powder shooting\, archery and tomahawk throwing. Tasty food prepared in the fur-trade era manner is a treat. Goods offered by the traders include period clothing\, furnishings\, camp gear\, trade silver\, animal skins\, jewelry and a fascinating variety of other utilitarian and decorative items. \nHours: Wednesday through Sunday: 10am – 4pm daily \nAdmission\nGeneral Admission (daily)\n$10.00 Adults\n$6.00 Children 6-17\nFree for Children 5 and under and for Burnett County Historical Society members\n$28.00 Family with 2 children\n$8.00 Seniors\, College Students and Military (active and veterans)\, ID is required \nGeneral Admission including Wild Rice Pancake Breakfast and Tour of Fur Posts and Ojibwe Indian Village 10am – 3pm\n$15.00 Adults (18 & older)\n$10.00 Children (6-17)\nFree for Children 5 and under\n$13.00 Seniors\, College Students and Military (active and veterans)\, ID is required \n \n2018 List of Activities (subject to change\, check back for additions) \n\nShooting Range (lower camp area): Competitions and Practice TBD\nHawk & Knife (near Indian Village): Ongoing Demonstrations and Practice\, Competitions TBD\nArchery (near Indian Village): Ongoing Demonstrations and Practice\, Competitions TBD\nSpecial Activities: Medallion Hunt\, Kids Games\, Bead Pile\, Scavenger Hunt\, Ladies Games\, Candy Cannon\, Cribbage Tournament\, Round Robin for Kids and Adults\nOn-Going Demonstrations and Activities\n\nTrader’s Row\nBead Making\, Blacksmith\, Brain Tanning\, Candle Making\, Leather Garments\, Sewing\, Wood Carving\, Quillwork\, Napier Calculator\, Candy Store and more \nLower Camp\nClay Ovens (firing in morning\, baking noon-4pm)\nFrontier Family Life\nFur Trade Trapping and Hunting\nRopemaking \nWild Rice Pancake Breakfast (Sunday)\nWild Rice Pancake Breakfast: 8am – 12:30pm\n$8.00 Adults (13 & older)\n$4.00 Children (6-12)\nFree for Children 5 and younger\nThe breakfast is a wonderful “before or after church” activity\, a great place to meet your neighbors or bring your weekend guests. Breakfast includes Wild Rice Pancakes\, Sausage\, Eggs and Beverage. Stay after breakfast to see the exhibits\, take a Tour\, and enjoy shopping in the Gift Shop. \nLocation\nForts Folle Avoine Historical Park\n8500 County Road U\nDanbury\, WI 54830\n715-866-8890\nfahp@centurytel.net \nDirections: We are located on County Rd U just 3 miles west of State Rd 35\, midway between Webster and Danbury Wisconsin. \nFor More Information: Call 715-866-8890; Email fahp@centurytel.net \nAbout Forts Folle Avoine\nOver 200 years ago\, the North West Company and the XY Company traveled along the Yellow River where they built fur trading posts\, now known as Fort Folle Avoine. When the North West Company first arrived\, they built a trading post where the Indian population and the French explorers bartered for furs\, primarily beaver fur which was incredibly cherished among the European market. Fur traders traveled hundreds of miles and portaged in every direction anticipating the rendezvous\, also known as a meeting place where trading and bartering took place. After furs and other products\, were traded\, the furs were then carried along the Yellow River onto Montreal and then eventually to Europe. At the end of the 1805 trading season\, the fur traders loaded their canoes\, traveled along the Yellow River and never returned to Fort Folle Avoine. What sets Fort Folle Avoine apart or makes this place so unique is that during the 1800’s the French explorers stayed in this area around two years\, where most trading posts were built and lived in for about a year and then abandoned and moved on down the river. \n \nMark your calendar today so you won’t miss the next Forts Folle Avoine Fur Trade Rendezvous at the Forts Folle Avoine Historical Park in Danbury\, Wisconsin. \nTags: Forts Folle Avoine Fur Trade Rendezvous\, Forts Folle Avoine Rendezvous\, Wisonsin Rendezvous\, Wisconsin Voyageur Rendezvous \nView other Wisconsin Rendezvous\nView other Voyageur Rendezvous or Encampments
URL:https://www.crazycrow.com/site/event/great-forts-folle-avoine-fur-trade-rendezvous/
LOCATION:Forts Folle Avoine Historical Park\, 8500 County Road U\, Danbury\, WI\, 54830\, United States
CATEGORIES:0-Regular Recurranace,Fur Trad Era Forts,Historic American Forts,Mountain Man Rendezvous,Same week in month,Voyageur Rendezvous or Encampment,Wisconsin Rendezvous
ATTACH;FMTTYPE=image/jpeg:https://www.crazycrow.com/site/wp-content/uploads/2018/04/Forts-Folle-Avoine-Fur-Trade-Rendezvous-01-900x600.jpg
ORGANIZER;CN="Burnett County Historical Society":MAILTO:fahp@centurytel.net
END:VEVENT
END:VCALENDAR