BEGIN:VCALENDAR
VERSION:2.0
PRODID:-//Crazy Crow Trading Post - ECPv6.15.20//NONSGML v1.0//EN
CALSCALE:GREGORIAN
METHOD:PUBLISH
X-ORIGINAL-URL:https://www.crazycrow.com/site
X-WR-CALDESC:Events for Crazy Crow Trading Post
REFRESH-INTERVAL;VALUE=DURATION:PT1H
X-Robots-Tag:noindex
X-PUBLISHED-TTL:PT1H
BEGIN:VTIMEZONE
TZID:UTC
BEGIN:STANDARD
TZOFFSETFROM:+0000
TZOFFSETTO:+0000
TZNAME:UTC
DTSTART:20180101T000000
END:STANDARD
END:VTIMEZONE
BEGIN:VEVENT
DTSTART;VALUE=DATE:20190831
DTEND;VALUE=DATE:20190902
DTSTAMP:20260421T041043
CREATED:20190106T215424Z
LAST-MODIFIED:20190323T202800Z
UID:31817-1567209600-1567382399@www.crazycrow.com
SUMMARY:Old Fort Niagara War of 1812 Encampment
DESCRIPTION:2019 Old Fort Niagara War of 1812 Encampment\n\nRate This Event\n \n                                    \n                                        \n                                        \n                                        \n                                        \n                                    \nExperience early American history at the Old Fort Niagara War of 1812 Encampment on August 31 – September 1\, 2019 at at Fort Niagara State Park in Youngstown\, New York. Night battle recreates the British assault of 1813. Experience the surprise British attack on Fort Niagara that took place on December 19\, 1813. The attack is recreated in real time on Saturday evening beginning at 7:00 p.m. Daytime activities include tactical demonstrations\, clothing programs\, recruiting demonstrations and hands-on activities for families. \n\nVisit Old Fort Niagara\nIf you visit during one of our special events\, like Old Fort Niagara War of 1812 Encampment\, you’ll meet reenactors who faithfully recreate the lives of past Fort garrisons and depict the struggles that led to the birth of the United States and Canada. If you visit during the off season\, you’ll enjoy self-guided or audio tours and hourly musket demonstrations in addition to the many exhibits and period rooms throughout the Fort. Why not make plans to visit the Fort today? You’ll experience a unique blend of authenticity and drama that brings history alive. \nAdmission: Adults $13\, Children 6-12 $9\, under 6 free\nDiscounts: $12 Adults; $8 Children for Senior Citizens\, Military & Vets w/ID\, AAA/CAA w/ID\, NYS Parks Discovery Pass coupon\, Guests of Old Fort Niagara Association Members \nTake a Virtual Tour of Old Fort Niagara\nDaily Schedule (Saturday & Sunday)\n9:00 a.m. Fort opens\n10:00 a.m. Flag Raising\n10:15 a.m. Manual Exercise – Troops Marching\, Maneuvering\n11:00 a.m. Uniforms of the War of 1812\nNoon Artillery Demonstration\n1:00 p.m. (Saturday and Sunday) Concert of Military Music\n1:00 p.m. (Saturday) Lecture Presentation \n“Gray Doom on the Niagara: Winfield Scott’s Brigade” by Dr. Richard Barbuto\, author of the books: Long Range Guns\, Close Quarters Combat: The U.S. Artillery Regiment in the War of 1812 (2010)\, and U.S. Army Staff Ride Handbook for the War of 1812 Niagara Campaigns\, 1812-1814 (2016)\, both available for purchase in the fort’s museum shop. \n2:30 p.m. Battle Re-enactment\n3:30 p.m. Kids Program: Recruiting (Saturday); Games (Sunday)\n4:15 p.m. Artillery Demonstration (Saturday); Musket Demo (Sunday)\n4:30 p.m. (Sunday) Last admissions into the fort; Fort closes at 5 p.m. \nOld Fort Niagara War of 1812 Encampment Mini-Gallery\n\n \nSaturday Only Schedule \nThe Saturday evening activities\, below\, are unique to this event and the fort remains open late. Admissions into the fort for this program will end at 7 p.m. when the doors will be closed to incoming and outgoing visitors until about 9 p.m. to ensure visitor safety. \n5:00 p.m. Musket Demonstration\n5:30 p.m. Regency English Country Dancing\n6:00 p.m. Guided Tour: Fort Niagara in the War of 1812\n7:00 p.m Last admissions into fort for evening activities\n7:15 p.m. Music Concert by the Mackenzie Highlanders’ Pipes and Drums\n8:00 p.m. Reenactment of the British Capture of Fort Niagara\, December 19\, 1813 \nThe Officers’ Club\, just outside the fort’s footprint\, will be open during the Old Fort Niagara War of 1812 Encampment from 11 a.m to 4 p.m. for tours and access to the World War II display. The lighthouse will also be open from noon to 3 p.m. \nLocation\nOld Fort Niagara – Standing Guard Since 1726\n4 Scott Avenue\nYoungstown\, NY 14174\n(716) 745-7611 \nFor More Information: Call (716) 745-7611; Email info@oldfortniagara.org \nAbout Old Fort Niagara\nOld Fort Niagara has dominated the entrance to the Niagara River since 1726. In American hands since 1796\, Fort Niagara was recaptured by the British in 1813\, and then ceded to the US a second time in 1815 at the end of the War of 1812. Today\, visitors can discover an amazing collection of military architecture\, including the oldest building in the Great Lakes region: the “French Castle.” The fort is a New York State and National Historic Landmark and hosts several reenactments each year.[su_accordion][su_spoiler title=”Read More”]\nOld Fort Niagara offers a chance to step back in time to an era when great empires struggled for control of North America. Visit original 18th century buildings\, enjoy incredible views and take part in exciting living history programs. The Fort’s Visitor Center offers you introductory exhibits filled with original artifacts and an award-winning 16-minute orientation film. Don’t miss the Fort’s original War of 1812 Flag. \nInside the Fort\, you’ll tour original buildings where Native American\, French\, British and American soldiers lived and worked from the 18th to the 20th centuries. During the summer months you’ll witness musket and artillery firing demonstrations\, go on a guided tour\, see artisans at work and learn about life on the Niagara Frontier during the 18th and early 19th centuries. \nIf you visit during one of our special events\, you’ll meet reenactors who faithfully recreate the lives of past Fort garrisons and depict the struggles that led to the birth of the United States and Canada. If you visit during the off season\, you’ll enjoy self-guided or audio tours and hourly musket demonstrations in addition to the many exhibits and period rooms throughout the Fort. Why not make plans to visit the Fort today? You’ll experience a unique blend of authenticity and drama that brings history alive.[/su_spoiler][/su_accordion] \nMark your calendar today so you won’t miss the Old Fort Niagara War of 1812 Encampment at Fort Niagara State Park in Youngstown\, New York. \n \nTags: Old Fort Niagara War of 1812 Encampment\, War of 1812 Reenactment\, Old Fort Niagara \nView other War of 1812 Encampments & Reenactments
URL:https://www.crazycrow.com/site/event/old-fort-niagara-war-of-1812-encampment/
LOCATION:Old Fort Niagara – Standing Guard Since 1726\, 102 Morrow Plaza\, Youngstown\, NY\, 14174\, United States
CATEGORIES:0-Regular Recurranace,Historic American Forts,Labor Day Weekend Rendezvous & Historic Reenactments,Living History Events,Same week in month,War of 1812
ATTACH;FMTTYPE=image/jpeg:https://www.crazycrow.com/site/wp-content/uploads/2019/01/Old-Fort-Niagara-War-of-1812-Encampment-17-1000x667.jpg
ORGANIZER;CN="Old Fort Niagara Association":MAILTO:eschrader@oldfortniagara.org
END:VEVENT
BEGIN:VEVENT
DTSTART;TZID=UTC:20190831T100000
DTEND;TZID=UTC:20190901T170000
DTSTAMP:20260421T041043
CREATED:20160610T123950Z
LAST-MODIFIED:20190829T180955Z
UID:5230-1567245600-1567357200@www.crazycrow.com
SUMMARY:Fort Atkinson Living History Weekend in September
DESCRIPTION:2019 Fort Atkinson Living History Weekend in September\n\nRate This Event\n \n                                    \n                                        \n                                        \n                                        \n                                        \n                                    \nJoin us for Fort Atkinson Living History Weekend in September on August 31 – September 1\, 2019. Fort Atkinson hosts several living-history weekends a year that feature volunteers recreating the lives of the soldiers\, artisans\, and civilians that lived in and around the outpost. Interpretive hours are from 10am until 5pm on all living-history days. \nFort Atkinson\, the first military post west of the Missouri River\, is seven blocks east of U.S. Highway 75 near Fort Calhoun. A park entry permit is required for all vehicles entering the park and may be purchased at the park. A fee of $2 for ages 13 and up and $1 for ages 3-12 is required to enter the Harold W. Andersen Visitor Center. \n[embedyt] http://www.youtube.com/watch?v=afzZBn-N6Kk&width=650&height=400[/embedyt] \nFort Atkinson Living History Weekend\nIt operated the first school\, farm\, sawmill\, hospital and library in what decades later would be Nebraska. Years earlier\, the Lewis and Clark expedition’s historic first meeting with American Indians was held on its bluff. \nLife at an 1820s military post is depicted at this Fort Atkinson Living History Weekend in September and other  Living History Weekends at Fort Atkinson State Historical Park that take place from May through September each year. \nFrom 10 a.m. to 5 p.m.\, volunteers will demonstrate period trades\, such as blacksmithing\, carpentry\, tinsmithing and coopering\, and crafts such as quilting\, spinning and weaving. Members of the American Mountain Men group will have an encampment on the grounds\, portraying the fur trappers who helped settle the region. There will be a presentation at 1 p.m. on both days by Mark W. Kelly\, author of the book ““Lost Voices on the Missouri\, John Dougherty and the Indian Frontier.” \nMark your calendar today so you don’t miss the next Fort Atkinson Living History Weekend in September. \nTags: Fort Atkinson Living History Weekend in September\, Fort Atkinson \nView Other Nebraska Rendezvous\, Encampments & Related Fur Trade Events\nView Fort Atkinson Living History Events\nView other Living History Evens
URL:https://www.crazycrow.com/site/event/fort-atkinson-living-history-weekend-in-september/
LOCATION:Fort Atkinson State Historical Park\, 201 S 7th St\, Fort Calhoun\, NE\, 68023\, United States
CATEGORIES:0-Regular Recurranace,Historic American Forts,Labor Day Event Calendar,Labor Day Weekend Rendezvous & Historic Reenactments,Living History Events,Mountain Man Rendezvous,Nebraska Rendezvous,Same week in month
ATTACH;FMTTYPE=image/jpeg:https://www.crazycrow.com/site/wp-content/uploads/2016/06/Fort-Atkinson-State-Historical-Park-Ft-Calhoun-Nebraska04-850x567.jpg
END:VEVENT
BEGIN:VEVENT
DTSTART;VALUE=DATE:20190914
DTEND;VALUE=DATE:20190916
DTSTAMP:20260421T041043
CREATED:20170319T140538Z
LAST-MODIFIED:20181112T141208Z
UID:13110-1568419200-1568591999@www.crazycrow.com
SUMMARY:One Fort: Three Wars at Fort Frederick State Park
DESCRIPTION:2019 Fort Taylor Living History Weekend\n\nRate This Event\n \n                                    \n                                        \n                                        \n                                        \n                                        \n                                    \nJoin us for the Annual One Fort: Three Wars at Fort Frederick State Park on September 14-15\, 2019 in Big Pool\, Maryland and discover\, through living history demonstrations\, the part Fort Frederick played during the French and Indian War\, American Revolution and Civil War. Hours are 10:00 am to 4:00 pm. Park entrance fees apply. \nOne Fort: Three Wars at Fort Frederick will give visitors a look at life in the fort as volunteers exhibit the varied roles the Fort played during the French and Indian War\, the American Revolution\, and the Civil War. \nThough Fort Frederick isn’t famous for ‘Heroic Last Stands’ or battles\, its re-use throughout history\, for such a variety or reasons makes it unique. Activities and living history encampments will give visitors a look into the small heroics of history; the daily lives of the people who served throughout these much larger conflicts. \nHighlights of One Fort: Three Wars at Fort Frederick include: \n\nFlag Raising\nFrench and Indian War Era Military Drill\n“Sundry women” – women’s roles in the 18th Century\n18th Century Military Field Music\nVolunteer Company Drill\nCole’s Maryland Cavalry (Union) in the Civil War (Saturday ONLY)\nAmerican Revolutionary War Drill\n“Forsaking their Plantation” Maryland Refugees during Pontiac’s War of 1763\nThe Life of a British Prisoner of War during the American Revolution\nCivil War Military drill\nFlag Lowering\n\nAdmission Fees\nThere is a service charge of $3 per car for Maryland residents and $5 per car for non-Maryland residents for this event. Disabled access is available; however\, most of the event activities are situated on grassy areas that may present difficult rolls or walks. Please dress for inclement weather or hot sunny days. \nLocation\nFort Frederick State Park\n11100 Fort Frederick Road\nBig Pool\, MD 21711\n301-842-2155 \nThe One Fort: Three Wars at Fort Frederick program takes a deeper look at the uses of the Fort and the roles of the people there\, during the French and Indian War\, The American Revolution\, and the Civil War. Originally built by Governor Horatio Sharpe of Maryland to protect the frontier during the French and Indian War\, his decision to build it of stone made it a lasting monument\, and a place to reuse. Twenty years later George Washington sent one of his Colonels to the Fort to turn it into a Prison camp\, and throughout the War of Independence 1000 British prisoners were kept captive\, guarded by American Troops. By the Civil War the Fort was in ruins and used as farmland\, but with the proximity of the Canal and Railway\, Union troops would often camp in those ruins to protect those supply lines from Confederate raiders. While not a turning point in history for any of those conflicts\, the program will allow a closer look at life for the common soldier serving in the Wars that shaped the Nation. For more details and program times contact the Park Visitor Center at 301-842-2155. \nFood\, gift\, and souvenir items will be available for sale at Captain Wort’s Sutler Shop. In addition to programs in the Fort\, the Parks visitor centre and exterior museums have more exhibits about its history\, including uniforms\, artifacts\, and a video. \nFort Frederick is located off of Rt 70 exit 12 at State Route 56\, Big Pool\, MD. For more information about the Garrison Weekend or other Fort Frederick activities\, please call the park at 301-842-2155 during the office hours of 8:00 am to 4:00 pm weekdays and 10:00 am to 5:00 pm weekends. \nMark your calendar today so you don’t miss the next One Fort: Three Wars at Fort Frederick State Park in Big Pool\, Maryland. \nTags: One Fort: Three Wars at Fort Frederick State Park\, French & Indian War Reenactment\, Revolutionary War Reenactment\, Civil War Reenactment \nView other French & Indian War Reenactments and Other Events\nView other Revolutionary War Reenactments & Other Events\nView other Civil War Reenactments\, Encampments & Other Events
URL:https://www.crazycrow.com/site/event/one-fort-three-wars-at-fort-frederick-state-park/
LOCATION:Fort Frederick State Park\, 11100 Fort Frederick Road\, Big Pool\, MD\, 21711\, United States
CATEGORIES:0-Regular Recurranace,American Civil War Reenactment,American Revolutionary War Reenactment,French & Indian War Reenactment,Historic American Forts,Living History Events,Same week in month
ATTACH;FMTTYPE=image/jpeg:https://www.crazycrow.com/site/wp-content/uploads/2017/03/One-Fort-Three-Wars-at-Fort-Frederick-State-Park-01-850x567.jpg
ORGANIZER;CN="Friends of Fort Frederick":MAILTO:info@friendsoffortfrederick.info
END:VEVENT
BEGIN:VEVENT
DTSTART;VALUE=DATE:20190923
DTEND;VALUE=DATE:20190925
DTSTAMP:20260421T041043
CREATED:20170920T150208Z
LAST-MODIFIED:20190105T154749Z
UID:18695-1569196800-1569369599@www.crazycrow.com
SUMMARY:Fort Christmas Fall Militia Encampment
DESCRIPTION:2019 Fort Christmas Fall Militia Encampment\n\nRate This Event\n \n                                    \n                                        \n                                        \n                                        \n                                        \n                                    \nJoin us for the Fort Christmas Fall Militia Encampment on November 23-24\, 2019 at the Fort Christmas Historical Park in Christmas\, Florida. At the Fort Christmas Fall Militia Encampment\, you will learn about the second Seminole Indian War from soldiers in period dress\, camped in front of the fort; this free event includes musket firing demonstrations and programs in the fort at 12:30 p.m. and 2:30 p.m. on both days. \nAdmission Free – Parking Free – Public Welcome \nPark Hours: 8:00 a.m. to 8:00 p.m. \nAs the Second Seminole War escalated across Florida in 1835\, U.S. Army orders were issued to build a string of over 200 forts to garrison men and supplies in an effort to supress the Seminole Indians. As the army arrived in central Florida on Christmas Day\, 1837\, the stockade was aptly christened Fort Christmas. Fort Christmas is a typical Seminole Indian War fort\, made of tall pine pickets. The fort is 80 linear square feet\, with two block houses that are 20 square feet each\, with a storehouse and a powder magazine within the walls of the fort. The replica of Fort Christmas serves as a museum with exhibits focusing on the Second Seminole War and pioneer life in Florida. Today\, the replica fort and museum is the centerpiece of Fort Christmas Historical Park. \n \nIn addition to the park’s full scale replica of the 19th century fort\, seven restored cracker era buildings are open for tours. These pioneer homes and a school building are furnished with period furniture\, appliances\, kitchen items and hand tools. A few of these Florida cracker homes included the Beehead Ranch house\, the Taylor Creek Yates home\, and the 1916 Union Schoolhouse. This family friendly event is extremely popular\, one of Central Florida’s most interesting traditional gatherings. The Cracker houses on display belonged to families with familiar names from Florida’s pioneer days\, such as Simmons\, Wheeler\, Bass\, and Yates. \nLocation\nFort Christmas Historical Park\n1300 North Fort Christmas Road\nChristmas\, FL 32709\n407-254-9312 \nFor More Information: Call 407-254-9312 or Email Trudy.Trask@ocfl.net \nMark your calendar today so you don’t miss the next Fort Christmas Fall Militia Encampment on the weekend before Thanksgiving at the Fort Christmas Historical Park in Christmas\, Florida. \nTags:Fort Christmas Fall Militia Encampment\, Fort Christmas Spring Militia Encampment\, Fort Christmas Militia Encampment\, Fort Christmas Militia Reenactment\, Fort Christmas Historical Park\, Fort Christmas \nView other History Festivals & Events
URL:https://www.crazycrow.com/site/event/fort-christmas-fall-militia-encampment/
LOCATION:Fort Christmas Historical Park\, 1300 North Fort Christmas Road\, Christmas\, FL\, 32709\, United States
CATEGORIES:0-Regular Recurranace,Florida Seminole Wars,Historic American Forts,Living History Events,Same week in month
ATTACH;FMTTYPE=image/jpeg:https://www.crazycrow.com/site/wp-content/uploads/2017/09/Fort-Christmas-Fall-Militia-Encampment-01-850x567.jpg
ORGANIZER;CN="Fort Christmas Historical Society":MAILTO:Trudy.Trask@ocfl.net
END:VEVENT
BEGIN:VEVENT
DTSTART;VALUE=DATE:20190928
DTEND;VALUE=DATE:20190930
DTSTAMP:20260421T041043
CREATED:20160611T023257Z
LAST-MODIFIED:20190204T202112Z
UID:5262-1569628800-1569801599@www.crazycrow.com
SUMMARY:1778 Siege of Fort Boonesborough Reenactment
DESCRIPTION:2019 – 1778 Siege of Fort Boonesborough Reenactment\n\nRate This Event\n \n                                    \n                                        \n                                        \n                                        \n                                        \n                                    \nJoin us for the 1778 Siege of Fort Boonesborough Reenactment on September 28-29\, 2019 at Fort Boonesborough State Park in Richmond\, Kentucky. Visitors to the 1778 Siege of Fort Boonesborough Reenactment have the opportunity to step back in time for a weekend as they observe what life was like for settlers living in the region in 1778. Boonesborough is considered one of the first pioneer settlements in the commonwealth and the Boonesborough State Park has been doing historically-correct re-enactments at the fort since 2000. \n\n1778 Siege of Fort Boonesborough Reenactment\nThe fort will be open to the public from 9 a.m. to 5 p.m. Saturday and Sunday. The event is free with regular fort admission\, which is $8 per adult\, $5 per child 6-12 and free for children 6 and younger. \nBattle re-enactments will happen at 2 p.m. both days of the 1778 Siege of Fort Boonesborough Reenactment\, with an additional night battle Saturday at dusk. Come early and spend the day at the 1778 Siege of Fort Boonesborough Reenactment learning about 18th century life in Kentucky. See a Living History Event including militia and settlers’ camps\, Native American Village\, merchants\, traders\, food\, music and more. Visit the Museum Store and 18th century Transylvania Store. This event is free with regular paid admission to the fort. \nParking for the event will be available in front of the fort with additional overflow parking nearby. Trolley service will be available to bring people to and from the fort. Additionally\, a half-mile walking trail connects the lot with the fort. \nThe Fort Boonesborough Foundation will sell lunch both days. \nAbout The Siege of Boonesborough\nThe 1778 Siege of Fort Boonesborough Reenactment relives the actual Siege of Boonesborough that took place in September 1778 during the American Revolutionary War. The attack on the Kentucky settlement of Boonesborough was led by Chief Blackfish\, a Shawnee leader allied to the British. Months before the battle\, Blackfish had captured and adopted Daniel Boone\, the founder of Boonesborough. Boone escaped the Shawnees in time to lead the defense of the settlement. Blackfish’s siege was unsuccessful and was lifted after ten days. Boone was then court-martialed by fellow officers who suspected him of having British sympathies. Boone was acquitted\, but he soon moved away from Boonesborough. \nAbout Fort Boonesborough\nRichard Henderson\, founder of the Transylvania Company in 1775\, chose Daniel Boone to head a party of 31 axe men to clear a path through the Cumberland Gap that would run from Long Island of the Holston River\, Tennessee\, to Otter Creek of the Kentucky River. Blazing the trail presented extraordinary difficulties – the route through the wilderness was a hunter’s trace that was too narrow for a wagon. The task was to combine The task was to combine many trails into one continuous route by clearing underbrush and overhanging foliage. When Daniel Boone and his men reached the Kentucky River on April 1\, 1775\, they quickly moved to establish Kentucky?s second settlement–the site still known as Fort Boonesborough. \nFor more information about 1778 Siege of Fort Boonesborough Reenactment: Phone 859-527-3131 ext 216 or email Fort Manager bill.farmer@ky.gov \nLocation\nFort Boonesborough State Park\n4375 Boonesborough Rd.\nRichmond\, Ky. 40475 \nMark your calendar today so you don’t miss the next 1778 Siege of Fort Boonesborough Reenactment at at Fort Boonesborough State Park in Richmond\, Kentucky in September. \nTags: 1778 Siege of Fort Boonesborough Reenactment\, Siege of Fort Boonesborough Reenactment\, Fort Boonesborough 1778 Seige Reenactment\, American Revolutionary War Reenactment \nView Other Texas Revolution Events\nView other Living History Events
URL:https://www.crazycrow.com/site/event/1778-siege-of-fort-boonesborough-reenactment/
LOCATION:Fort Boonesborough State Park\, 4375 Boonesborough Road\, Richmond\, KY\, 40475\, United States
CATEGORIES:American Revolutionary War Reenactment,Battle Reenactments & Encampments,Historic American Forts,Living History Events,US Historic Reenactor Events
ATTACH;FMTTYPE=image/jpeg:https://www.crazycrow.com/site/wp-content/uploads/2016/06/1778-Siege-of-Boonesborough-01-850x567.jpg
ORGANIZER;CN="The Fort Boonesborough Foundation":MAILTO:bill.farmer@ky.gov
END:VEVENT
END:VCALENDAR