BEGIN:VCALENDAR
VERSION:2.0
PRODID:-//Crazy Crow Trading Post - ECPv6.15.20//NONSGML v1.0//EN
CALSCALE:GREGORIAN
METHOD:PUBLISH
X-ORIGINAL-URL:https://www.crazycrow.com/site
X-WR-CALDESC:Events for Crazy Crow Trading Post
REFRESH-INTERVAL;VALUE=DURATION:PT1H
X-Robots-Tag:noindex
X-PUBLISHED-TTL:PT1H
BEGIN:VTIMEZONE
TZID:UTC
BEGIN:STANDARD
TZOFFSETFROM:+0000
TZOFFSETTO:+0000
TZNAME:UTC
DTSTART:20170101T000000
END:STANDARD
END:VTIMEZONE
BEGIN:VEVENT
DTSTART;VALUE=DATE:20181103
DTEND;VALUE=DATE:20181105
DTSTAMP:20260421T133522
CREATED:20180904T202853Z
LAST-MODIFIED:20180904T202853Z
UID:27582-1541203200-1541375999@www.crazycrow.com
SUMMARY:History Revisited Pow Wow
DESCRIPTION:2018 History Revisited Pow Wow\n\nRate This Event\n \n                                    \n                                        \n                                        \n                                        \n                                        \n                                    \nJoin us for the History Revisited Pow Wow on November 3-4\, 2018 at the Calvary School in Huntsville\, Alabama. Come to the History Revisited Pow Wow where\, for the first time in history\, the Buffalo Soldiers and the Native Americans will be together peacefully. The Staff and Flags will be brought in by the Native American Warrior and Honor Guard Society\, all members are veterans. At the start of the Powwow music will be provided by the John ‘Lone Eagle’ band with their contemporary Native American music. There will be Native American craft vendors\, Native American Drumming and Dancers and concessions by two food vendors. \n\nHistory Revisited Pow Wow\nThe powwow serves as an opportunity for members of different tribes to come together and honor their culture through traditional prayer\, song and dance. More importantly\, though\, it serves as an educational experience for everyone involved. \nNo Drugs\, Alcohol\, Politics\, Open Carry\nAdmission:\nAdults – $7\nKids(6-16) & Seniors(65+) – $5\nFamily(Limit 6) – $20\nMilitary & First Responders – Free \nPublic Welcome – Free Parking\nHandicap Accessible – Seating provided\nGates: 9 a.m – 5 p.m. Saturday & Sunday \nGrand Entry: 12:00 \nHistory Revisted Powwow Head Staff\nMaster Of Ceremonies: Richard “Sky Bear” Smith\nArena Director: Bob Upton\nHost Drum: Thunderheart Singers\nHeadman: Johnny Rains\nHeadlady: Cricket Waddell \nLocation:\nCalvary School\n2800 Poplar Ave NW\nHuntsville\, Alabama 35081 \nFor More Information: Lowrey Hesse – Call 256-293-6464 \nMark your calendar today so you don’t miss the next History Revisited Pow Wow at Calvary School in Huntsville\, Alabama the first weekend of November. \nTags: History Revisited Powwow\, History Revisited Pow Wow\, History Revisited Powwow Huntsville Alabama\, History Revisited Pow Wow Huntsville Alabama\, Alabama Powwow\, Alabama Pow Wow \nView other Alabama Powwows
URL:https://www.crazycrow.com/site/event/history-revisited-pow-wow/
LOCATION:Calvary School\, 2800 Poplar Ave NW\, Huntsville\, AL\, 35081\, United States
CATEGORIES:0-Regular Recurranace,Alabama Powwows,Native American Pow Wows & Events
ATTACH;FMTTYPE=image/jpeg:https://www.crazycrow.com/site/wp-content/uploads/2018/09/native-american-powwow-calendar-174-900x600.jpg
ORGANIZER;CN="Turtle Island Native American Association":MAILTO:tlkstone1@aol
END:VEVENT
END:VCALENDAR